BEGIN:VCALENDAR
VERSION:2.0
PRODID:-//Deer Path Art League - ECPv6.15.20//NONSGML v1.0//EN
CALSCALE:GREGORIAN
METHOD:PUBLISH
X-ORIGINAL-URL:https://deerpathartleague.org
X-WR-CALDESC:Events for Deer Path Art League
REFRESH-INTERVAL;VALUE=DURATION:PT1H
X-Robots-Tag:noindex
X-PUBLISHED-TTL:PT1H
BEGIN:VTIMEZONE
TZID:UTC
BEGIN:STANDARD
TZOFFSETFROM:+0000
TZOFFSETTO:+0000
TZNAME:UTC
DTSTART:20240101T000000
END:STANDARD
END:VTIMEZONE
BEGIN:VEVENT
DTSTART;TZID=UTC:20250124T170000
DTEND;TZID=UTC:20250124T190000
DTSTAMP:20260419T120911
CREATED:20250108T233829Z
LAST-MODIFIED:20250108T233829Z
UID:4804-1737738000-1737745200@deerpathartleague.org
SUMMARY:2025 Member's Art Show Opening Reception
DESCRIPTION:
URL:https://deerpathartleague.org/event/2025-members-art-show-opening-reception/
LOCATION:Source & Style- Lake Bluff\, 12 E Scranton Ave\, Lake Bluff\, IL\, 60044\, United States
END:VEVENT
END:VCALENDAR