BEGIN:VCALENDAR
VERSION:2.0
PRODID:-//Deer Path Art League - ECPv6.15.20//NONSGML v1.0//EN
CALSCALE:GREGORIAN
METHOD:PUBLISH
X-WR-CALNAME:Deer Path Art League
X-ORIGINAL-URL:https://deerpathartleague.org
X-WR-CALDESC:Events for Deer Path Art League
REFRESH-INTERVAL;VALUE=DURATION:PT1H
X-Robots-Tag:noindex
X-PUBLISHED-TTL:PT1H
BEGIN:VTIMEZONE
TZID:UTC
BEGIN:STANDARD
TZOFFSETFROM:+0000
TZOFFSETTO:+0000
TZNAME:UTC
DTSTART:20220101T000000
END:STANDARD
END:VTIMEZONE
BEGIN:VEVENT
DTSTART;TZID=UTC:20240305T080000
DTEND;TZID=UTC:20240305T170000
DTSTAMP:20260420T021415
CREATED:20240306T021821Z
LAST-MODIFIED:20240306T023232Z
UID:4038-1709625600-1709658000@deerpathartleague.org
SUMMARY:CALL FOR ARTISTS - Artists on the Bluff Summer Arts Festival
DESCRIPTION:Click HERE for the Artists on the Bluff 2024 Summer Arts Festival application and information.\nThe festival will be held Saturday\, June 15 and Sunday June 16\, 10 am to 4 PM.\n\nApplication due date May 1\nApplication fee due May 15\nWe would love to have more artists participate this year. \nIf you know of any suitable artists outside AOTB\, please forward them the application or let me know and I will send. \nWe need more artists to balance out the number the number of jewelers who apply as well. \nAdditional Details:\nAOTB has a limited number of 10′ x 10′ tents available for rent. $50 for both days – on a first come\, first serve basis. \nA check for $50 should be included in your application paperwork if your request is approved. \nPlease email ASAP if you would like to rent a tent at: alishoppingdiva@aol.com \nVOLUNTEERS NEEDED \nAOTB Info Tent:   Shifts are 10-1 and 1-4 both days. \nSet up/take down helpers:   Friday 6/14 3 PM – 6 PM and Sunday 4-7 PM (or any portion of these hours). \nPoster\, postcard distribution in LF\, LB and neighboring towns/stores… \nIn ground signs: placement Saturday\, June 15 prior to 10 am and take down Sunday\, June 16 after 4pm. \nSponsorship Solicitors: acquire local business sponsors. \nCross Promotion with Local Businesses: find and create cross promotions with local businesses. \nMarketing: posting online \nBring Water & Ice for cooler in Info Tent: loan and bring us your cooler and donate water bottles and ice or get reimbursed. \nIf you can volunteer\, please email at: alishoppingdiva@aol.com
URL:https://deerpathartleague.org/event/call-for-artists-artists-on-the-bluff-summer-arts-festival/
LOCATION:IL
CATEGORIES:DPAL Member Events,Local Artist Opportunities
END:VEVENT
BEGIN:VEVENT
DTSTART;VALUE=DATE:20240301
DTEND;VALUE=DATE:20240302
DTSTAMP:20260420T021415
CREATED:20240213T232048Z
LAST-MODIFIED:20240214T000215Z
UID:3986-1709251200-1709337599@deerpathartleague.org
SUMMARY:Call for Artists Deadline - ART 64 - Wauwatosa\, WI
DESCRIPTION:ART 64\, presented by North Shore Bank\, is a two-day\, interactive live painting bracket-style tournament in the City of Wauwatosa\, Wisconsin.\nJune 7 & 8\, 2024\nMore Info & Apply Here!\n \nIn three rounds\, artists are paired to go head-to-head and given 60 minutes to create a work of art on a predetermined theme on canvas. \nMembers of the public\, both in-person and virtually\, are invited to watch the paintings come to life and vote for their favorite artists to advance online. \nAll participants receive money for participating: First round competitors receive a total of $100\, second round competitors receive a total of $250\, third round competitors receive a total of $750\, and the sole winner of ART 64 receives $20\,000 in total. \nApply Here!
URL:https://deerpathartleague.org/event/call-for-artists-art-64-wauwatosa-wi/
LOCATION:IL
CATEGORIES:DPAL Member Events,Local Artist Opportunities
END:VEVENT
BEGIN:VEVENT
DTSTART;VALUE=DATE:20240229
DTEND;VALUE=DATE:20240301
DTSTAMP:20260420T021415
CREATED:20240124T015800Z
LAST-MODIFIED:20240207T012036Z
UID:3908-1709164800-1709251199@deerpathartleague.org
SUMMARY:Deadline to Apply for Art Fair on the Square!
DESCRIPTION:Today’s the deadline to apply for the 69th Annual Art Fair on the Square!\nDeer Path Art League 69th Annual Art Fair on the Square\nJoin us Labor Day Weekend!\nSunday – Monday\, September 1-2\, 2024\n10 a.m. – 5 p.m. \nCLICK HERE TO APPLY!\nThe 69th Annual Art Fair on the Square is the signature event for the Deer Path Art League and our gift to the community. The two-day\, juried fine art show\, located in historic Lake Forest Market Square\, is free to the public\, and celebrates the individual artisan. \nCome see over 120 exhibitors\, in a variety of disciplines including: ceramics\, digital art\, drawing/pastels\, fiber\, glass\, graphics/printmaking\, jewelry\, metal\, mixed media\, painting\, photography\, sculpture & wood. \nArtists looking to apply to Art Fair on the Square please visit zapplication.org to submit an application. \n*Please note: The Deer Path Art League uses an independent\, numerical\, double-blind jury made of industry professionals to curate this event and artists. Previous year category Award Winners are automatically exempt from the jury process and invited to apply for the next year’s event. To remain fair\, objective and as equal as possible – No member of the Board of Directors\, nor any member of Staff has the authority or ability to change the jury’s results. All exhibiting artists must pay the application\, booth\, or applicable fees.
URL:https://deerpathartleague.org/event/deadline-to-apply-for-art-fair-on-the-square/
LOCATION:IL
CATEGORIES:Local Artist Opportunities
END:VEVENT
BEGIN:VEVENT
DTSTART;VALUE=DATE:20240213
DTEND;VALUE=DATE:20240214
DTSTAMP:20260420T021415
CREATED:20240214T011118Z
LAST-MODIFIED:20240214T011126Z
UID:3994-1707782400-1707868799@deerpathartleague.org
SUMMARY:Lake Forest On Topic Podcast - Featuring Mark McMahon
DESCRIPTION:Featuring Deer Path Artist and Board Member\nMark McMahon!\nListen Now!
URL:https://deerpathartleague.org/event/lake-forest-on-topic-podcast-featuring-mark-mcmahon/
LOCATION:IL
CATEGORIES:DPAL Member Events,Local Artist Opportunities
END:VEVENT
BEGIN:VEVENT
DTSTART;TZID=UTC:20240213T110000
DTEND;TZID=UTC:20240213T110000
DTSTAMP:20260420T021415
CREATED:20240207T224108Z
LAST-MODIFIED:20240207T224108Z
UID:3962-1707822000-1707822000@deerpathartleague.org
SUMMARY:Cleve Carney Museum of Art - Visiting Artist Series
DESCRIPTION:COD Visiting Artist Series Presents:\nDylan Miner\n2/13/24\, 11am-12pm — Belushi Auditorium \n \nJoin us Tuesday\, February 13th at 11am in Belushi Auditorium for a special lecture by visiting artist Dylan Miner!  \nThis lecture is free and open to the public. \nDylan AT Miner is an artist\, activist\, and scholar. He holds a PhD in Arts of the Américas from The University of New Mexico. He is currently Associate Dean for Research and Graduate Education in the Penny W. Stamps School of Art & Design at the University of Michigan. Previously\, he served as Dean and Professor in the Residential College in the Arts and Humanities (RCAH) at Michigan State University. As an artist\, he has hung nearly 30 solo art exhibitions\, as well as participated in more than 115 group exhibitions. He is a founding member of the artist collective Justseeds. His book Creating Aztlán: Chicano Art\, Indigenous Sovereignty\, and Lowriding Across Turtle Island(2014) was published by the University of Arizona Press. Born and raised in Michigan\, Miner is a citizen of the Métis Nation of Ontario.
URL:https://deerpathartleague.org/event/cleve-carney-museum-of-art-visiting-artist-series/
LOCATION:Cleve Carney Museum of Art\, 425 Fawell Blvd\, Glen Ellyn\, IL\, 60137\, United States
CATEGORIES:DPAL Member Events,Local Artist Opportunities
END:VEVENT
BEGIN:VEVENT
DTSTART;TZID=UTC:20240116T170000
DTEND;TZID=UTC:20240116T190000
DTSTAMP:20260420T021415
CREATED:20231201T002753Z
LAST-MODIFIED:20240207T012042Z
UID:3856-1705424400-1705431600@deerpathartleague.org
SUMMARY:Deer Path Art League's Members' Show OPENING!
DESCRIPTION:TONIGHT’S THE NIGHT!\nJoin members of the Deer Path Art League for this MUST-SEE event\n  \nHosted by The Gallery\, this show is OUT OF THIS WORLD.\n\nLocated at 202 Wisconsin Ave.\, Lake Forest\, IL\, The Gallery hosts the unique artworks of 28 talented artists across a variety of mediums in this one-of-a-kind event you have to see to believe.\n\nCome join us for this expertly curated experience and be transformed into a world of human emotion\, elegance and inspiration.\n\nReception: 5:00 – 7:00pm tonight\, January 16th at The Gallery Lake Forest.
URL:https://deerpathartleague.org/event/members-show-opening/
LOCATION:The Gallery Lake Forest\, 202 Wisconsin Ave.\, Lake Forest\, IL\, 60045\, United States
CATEGORIES:DPAL Member Events
END:VEVENT
BEGIN:VEVENT
DTSTART;VALUE=DATE:20240111
DTEND;VALUE=DATE:20240303
DTSTAMP:20260420T021415
CREATED:20231201T003021Z
LAST-MODIFIED:20240207T012049Z
UID:3859-1704931200-1709423999@deerpathartleague.org
SUMMARY:Deer Path Art League's Member's Show on Display at The Gallery
DESCRIPTION:On display – 2024 Deer Path Art League’s Members’ Show hanging exclusively at The Gallery – Lake Forest!\nVisit The Gallery at 202 Wisconsin Ave.\, Lake Forest\, IL 60045 to see this one of kind show featuring the talents of 28 artists on display now through March 2nd\, 2024.
URL:https://deerpathartleague.org/event/members-show-on-display/
LOCATION:The Gallery Lake Forest\, 202 Wisconsin Ave.\, Lake Forest\, IL\, 60045\, United States
CATEGORIES:DPAL Member Events
END:VEVENT
BEGIN:VEVENT
DTSTART;VALUE=DATE:20231231
DTEND;VALUE=DATE:20240102
DTSTAMP:20260420T021415
CREATED:20231130T235951Z
LAST-MODIFIED:20240207T012055Z
UID:3843-1703980800-1704153599@deerpathartleague.org
SUMMARY:Application Deadline for 2024 Member's Show - On Fire
DESCRIPTION:Please email: art@lindascholly.com for more information or to apply.
URL:https://deerpathartleague.org/event/applications-due-for-2024-members-show-on-fire/
LOCATION:IL
CATEGORIES:DPAL Member Events,Local Artist Opportunities
END:VEVENT
END:VCALENDAR