BEGIN:VCALENDAR
VERSION:2.0
PRODID:-//Deer Path Art League - ECPv6.15.20//NONSGML v1.0//EN
CALSCALE:GREGORIAN
METHOD:PUBLISH
X-ORIGINAL-URL:https://deerpathartleague.org
X-WR-CALDESC:Events for Deer Path Art League
REFRESH-INTERVAL;VALUE=DURATION:PT1H
X-Robots-Tag:noindex
X-PUBLISHED-TTL:PT1H
BEGIN:VTIMEZONE
TZID:UTC
BEGIN:STANDARD
TZOFFSETFROM:+0000
TZOFFSETTO:+0000
TZNAME:UTC
DTSTART:20230101T000000
END:STANDARD
END:VTIMEZONE
BEGIN:VEVENT
DTSTART;TZID=UTC:20241003T183000
DTEND;TZID=UTC:20241003T200000
DTSTAMP:20260419T084118
CREATED:20240916T235943Z
LAST-MODIFIED:20240917T234956Z
UID:4705-1727980200-1727985600@deerpathartleague.org
SUMMARY:Artists on the Bluff Artist Talk featuring: Hector Hernandez
DESCRIPTION:Join Artists on the Bluff & Deer Path Art League along with Hector Hernandez\, a renowned Latin American artist from Mexico for this truly extraordinary Artist’s Talk.\n \nWith decades of experience and training at top art schools in the U.S. and Europe\, Hernandez is celebrated for his mastery of a rare 15th-century oil painting technique. His meticulous work\, often taking over 3\,000 hours per piece\, reflects the intricate detail and ethereal glow of Renaissance Old Masters. Hernandez’s art has dazzled audiences at major exhibitions worldwide\, including the National Portrait Gallery in London and the National Galleries of Scotland. In 2023\, he enriched his career with an art residency at Atelier 830\, collaborating with renowned architect Adrian Smith. Dedicated to giving back\, Hernandez not only offers personalized classes to share his expertise but also mentors emerging artists and supports disadvantaged communities. \nTo learn more about Hector Hernandez and his current available classes\, click here: Atelier 830 Classes \nTo sign up for Hector Hernandez’s oil painting classes at the fabulous Atelier 830\, please email your name and contact information to: atelier830greenbay@gmail.com  \nPresented by: Artists on the Bluff \nMembers of Artists on the Bluff and The Deer Path Art League: Free \nGeneral Admission: $10 \nNon-members\, please pay at the door.
URL:https://deerpathartleague.org/event/artists-on-the-bluff-artist-talk-featuring-hector-hernandez/
LOCATION:Lake Bluff Park District\, 355 W. Washington Blvd\, Lake Bluff\, IL\, 60044\, United States
CATEGORIES:DPAL Member Events,Local Artist Opportunities
ORGANIZER;CN="Artists on the Bluff":MAILTO:artists@artistsonthebluff.org
END:VEVENT
END:VCALENDAR